BEGIN:VCALENDAR
VERSION:2.0
PRODID:-//Les Possibles - ECPv6.15.20//NONSGML v1.0//EN
CALSCALE:GREGORIAN
METHOD:PUBLISH
X-WR-CALNAME:Les Possibles
X-ORIGINAL-URL:https://lespossibles.fr
X-WR-CALDESC:Évènements pour Les Possibles
REFRESH-INTERVAL;VALUE=DURATION:PT1H
X-Robots-Tag:noindex
X-PUBLISHED-TTL:PT1H
BEGIN:VTIMEZONE
TZID:Europe/Paris
BEGIN:DAYLIGHT
TZOFFSETFROM:+0100
TZOFFSETTO:+0200
TZNAME:CEST
DTSTART:20250330T010000
END:DAYLIGHT
BEGIN:STANDARD
TZOFFSETFROM:+0200
TZOFFSETTO:+0100
TZNAME:CET
DTSTART:20251026T010000
END:STANDARD
BEGIN:DAYLIGHT
TZOFFSETFROM:+0100
TZOFFSETTO:+0200
TZNAME:CEST
DTSTART:20260329T010000
END:DAYLIGHT
BEGIN:STANDARD
TZOFFSETFROM:+0200
TZOFFSETTO:+0100
TZNAME:CET
DTSTART:20261025T010000
END:STANDARD
BEGIN:DAYLIGHT
TZOFFSETFROM:+0100
TZOFFSETTO:+0200
TZNAME:CEST
DTSTART:20270328T010000
END:DAYLIGHT
BEGIN:STANDARD
TZOFFSETFROM:+0200
TZOFFSETTO:+0100
TZNAME:CET
DTSTART:20271031T010000
END:STANDARD
END:VTIMEZONE
BEGIN:VEVENT
DTSTART;TZID=Europe/Paris:20260520T200000
DTEND;TZID=Europe/Paris:20260520T223000
DTSTAMP:20260420T021258
CREATED:20260313T091120Z
LAST-MODIFIED:20260313T091120Z
UID:601-1779307200-1779316200@lespossibles.fr
SUMMARY:Les Possibles meets University of Toronto/ salle Colonne\, Paris
DESCRIPTION:Les Possibles accueillent des étudiants instrumentistes de l’Université de Toronto. \nCe travail collectif de 5 jours donnera lieu à un concert à la Salle Colonne à Paris  (13)
URL:https://lespossibles.fr/event/les-possibles-meets-university-of-toronto-salle-colonne-paris/
LOCATION:Salle Colonne à Paris\, 94 Bd Auguste Blanqui\, Paris\, 75013\, France
END:VEVENT
BEGIN:VEVENT
DTSTART;TZID=Europe/Paris:20260625T190000
DTEND;TZID=Europe/Paris:20260625T230000
DTSTAMP:20260420T021258
CREATED:20260313T091322Z
LAST-MODIFIED:20260313T091322Z
UID:604-1782414000-1782428400@lespossibles.fr
SUMMARY:Atelier de composition/ Conservatoire de Montreuil
DESCRIPTION:Atelier de création des étudiants compositeurs du réseau Est-Ensemble\, 19h\,\nauditorium du conservatoire de Montreuil (93)
URL:https://lespossibles.fr/event/atelier-de-composition-conservatoire-de-montreuil/
LOCATION:Conservatoire Pina Bausch de Montreuil\, 13 Avenue de la Résistance\, Montreuil\, 93100\, France
END:VEVENT
END:VCALENDAR